BEGIN:VCALENDAR
VERSION:2.0
PRODID:-//Magyar Speciális Olimpia Szövetség - ECPv6.15.20//NONSGML v1.0//EN
CALSCALE:GREGORIAN
METHOD:PUBLISH
X-WR-CALNAME:Magyar Speciális Olimpia Szövetség
X-ORIGINAL-URL:https://www.specialolympics.hu
X-WR-CALDESC:Események Magyar Speciális Olimpia Szövetség
REFRESH-INTERVAL;VALUE=DURATION:PT1H
X-Robots-Tag:noindex
X-PUBLISHED-TTL:PT1H
BEGIN:VTIMEZONE
TZID:Europe/Budapest
BEGIN:DAYLIGHT
TZOFFSETFROM:+0100
TZOFFSETTO:+0200
TZNAME:CEST
DTSTART:20250330T010000
END:DAYLIGHT
BEGIN:STANDARD
TZOFFSETFROM:+0200
TZOFFSETTO:+0100
TZNAME:CET
DTSTART:20251026T010000
END:STANDARD
BEGIN:DAYLIGHT
TZOFFSETFROM:+0100
TZOFFSETTO:+0200
TZNAME:CEST
DTSTART:20260329T010000
END:DAYLIGHT
BEGIN:STANDARD
TZOFFSETFROM:+0200
TZOFFSETTO:+0100
TZNAME:CET
DTSTART:20261025T010000
END:STANDARD
BEGIN:DAYLIGHT
TZOFFSETFROM:+0100
TZOFFSETTO:+0200
TZNAME:CEST
DTSTART:20270328T010000
END:DAYLIGHT
BEGIN:STANDARD
TZOFFSETFROM:+0200
TZOFFSETTO:+0100
TZNAME:CET
DTSTART:20271031T010000
END:STANDARD
END:VTIMEZONE
BEGIN:VEVENT
DTSTART;TZID=Europe/Budapest:20260425T080000
DTEND;TZID=Europe/Budapest:20260426T160000
DTSTAMP:20260425T140246
CREATED:20260409T095935Z
LAST-MODIFIED:20260409T095935Z
UID:10000207-1777104000-1777219200@www.specialolympics.hu
SUMMARY:ORSZÁGOS\, EGYESÍTETT KÉZILABDA Bajnokság 2025-2026. V. Forduló-Tata
DESCRIPTION:versenykiírás 21+ évesek \nversenykiírás u21
URL:https://www.specialolympics.hu/event/orszagos-egyesitett-kezilabda-bajnoksag-2025-2026-v-fordulo-tata/
LOCATION:Tatai Edzőtábor\, Baji út 21.\, Tata\, 2890\, Hungary
CATEGORIES:Kézilabda
END:VEVENT
BEGIN:VEVENT
DTSTART;TZID=Europe/Budapest:20260425T100000
DTEND;TZID=Europe/Budapest:20260425T160000
DTSTAMP:20260425T140246
CREATED:20260323T085156Z
LAST-MODIFIED:20260323T085156Z
UID:10000198-1777111200-1777132800@www.specialolympics.hu
SUMMARY:PÁROS ÉS EGYESÍTETT PÁROS REGIONÁLIS BOWLING VERSENY
DESCRIPTION:versenykiírás
URL:https://www.specialolympics.hu/event/paros-es-egyesitett-paros-regionalis-bowling-verseny-2/
LOCATION:Bowling Factory\, Béke Sugárút 28.\, Gyula\, 5700
CATEGORIES:Bowling
END:VEVENT
BEGIN:VEVENT
DTSTART;TZID=Europe/Budapest:20260429T090000
DTEND;TZID=Europe/Budapest:20260429T150000
DTSTAMP:20260425T140246
CREATED:20260404T103022Z
LAST-MODIFIED:20260404T103022Z
UID:10000203-1777453200-1777474800@www.specialolympics.hu
SUMMARY:MSOSZ INTEGRÁLT ORSZÁGOS FELKÉSZÜLÉSI GÖRKORCSOLYA VERSENY
DESCRIPTION:versenykiírás
URL:https://www.specialolympics.hu/event/msosz-integralt-orszagos-felkeszulesi-gorkorcsolya-verseny/
LOCATION:Campona Budpet\, Nagytétényi út 37\, Budapest\, 1222\, Magyarország
CATEGORIES:Görkorcsolya
END:VEVENT
END:VCALENDAR